BEGIN:VCALENDAR
VERSION:2.0
PRODID:-//Invest in Angus - ECPv6.15.17.1//NONSGML v1.0//EN
CALSCALE:GREGORIAN
METHOD:PUBLISH
X-WR-CALNAME:Invest in Angus
X-ORIGINAL-URL:https://investinangus.com
X-WR-CALDESC:Events for Invest in Angus
REFRESH-INTERVAL;VALUE=DURATION:PT1H
X-Robots-Tag:noindex
X-PUBLISHED-TTL:PT1H
BEGIN:VTIMEZONE
TZID:UTC
BEGIN:STANDARD
TZOFFSETFROM:+0000
TZOFFSETTO:+0000
TZNAME:UTC
DTSTART:20210101T000000
END:STANDARD
END:VTIMEZONE
BEGIN:VEVENT
DTSTART;TZID=UTC:20220301T100000
DTEND;TZID=UTC:20220301T120000
DTSTAMP:20260425T025219
CREATED:20220216T114158Z
LAST-MODIFIED:20220216T114158Z
UID:10084151-1646128800-1646136000@investinangus.com
SUMMARY:German market immersion session
DESCRIPTION:Tune in and find out why this market is so important to the region and how your tourism business can work with the German travel trade\, to influence the decision-making process of visitors from this market. \nYou’ll hear from our market specialists on specific characteristics of the German visitors and how you can tailor your product to appeal to these visitors. \nThese sessions will conclude with the opportunity to ask questions and find out more about working with this market.
URL:https://investinangus.com/event/german-market-immersion-session/
CATEGORIES:International Trade,Tourism
END:VEVENT
END:VCALENDAR