BEGIN:VCALENDAR
VERSION:2.0
PRODID:-//Invest in Angus - ECPv6.15.17.1//NONSGML v1.0//EN
CALSCALE:GREGORIAN
METHOD:PUBLISH
X-WR-CALNAME:Invest in Angus
X-ORIGINAL-URL:https://investinangus.com
X-WR-CALDESC:Events for Invest in Angus
REFRESH-INTERVAL;VALUE=DURATION:PT1H
X-Robots-Tag:noindex
X-PUBLISHED-TTL:PT1H
BEGIN:VTIMEZONE
TZID:UTC
BEGIN:STANDARD
TZOFFSETFROM:+0000
TZOFFSETTO:+0000
TZNAME:UTC
DTSTART:20210101T000000
END:STANDARD
END:VTIMEZONE
BEGIN:VEVENT
DTSTART;TZID=UTC:20220321T060000
DTEND;TZID=UTC:20220324T230000
DTSTAMP:20260425T011602
CREATED:20220307T105845Z
LAST-MODIFIED:20220307T105845Z
UID:10084259-1647842400-1648162800@investinangus.com
SUMMARY:ExploreGB Virtual 2022
DESCRIPTION:Take part in VisitBritain’s flagship leisure trade event which will virtually host over 350 key international hand-picked buyers. \nTaking place on 21 – 24 March\, all attendees will have access to three full and flexible days of self-selected virtual appointments on 22 – 24 March\, a wealth of digital and downloadable resources and the opportunity to create bespoke exhibitors’ resource booths. \nIt also features a dedicated day (on 21 March) for you to meet one-to-one and access support from our in-market representatives\, PR and Business Support teams.
URL:https://investinangus.com/event/exploregb-virtual-2022/
CATEGORIES:Networking,Tourism
END:VEVENT
BEGIN:VEVENT
DTSTART;TZID=UTC:20220322T120000
DTEND;TZID=UTC:20220322T130000
DTSTAMP:20260425T011602
CREATED:20220307T104604Z
LAST-MODIFIED:20220307T104604Z
UID:10084249-1647950400-1647954000@investinangus.com
SUMMARY:Tourism businesses: why it's so important to get your website cookies right
DESCRIPTION:In this session\, we’ll look at how to ensure your use of cookies and/or other tracking technologies is compliant with legislation (the Data Protection Act 2018 and CCPA). \nBy the end of this session\, you will have a better understanding of how to ensure you’re capturing better data\, including: \n\nGeneral use of tracking technologies\nHow to ensure your business is compliant\nHow to make any changes to your site\nBest practice for tourism businesses\n\nThis session is focused on the technological aspects of cookies and consent and provided for informational purposes only. It should not be construed as legal advice on any subject matter. \nThis is a joint VisitScotland and DigitalBoost event which is funded by Digital Scotland and delivered by Business Gateway.
URL:https://investinangus.com/event/tourism-businesses-why-its-so-important-to-get-your-website-cookies-right/
CATEGORIES:Digital Marketing,Tourism
END:VEVENT
END:VCALENDAR