BEGIN:VCALENDAR
VERSION:2.0
PRODID:-//Invest in Angus - ECPv6.15.17.1//NONSGML v1.0//EN
CALSCALE:GREGORIAN
METHOD:PUBLISH
X-WR-CALNAME:Invest in Angus
X-ORIGINAL-URL:https://investinangus.com
X-WR-CALDESC:Events for Invest in Angus
REFRESH-INTERVAL;VALUE=DURATION:PT1H
X-Robots-Tag:noindex
X-PUBLISHED-TTL:PT1H
BEGIN:VTIMEZONE
TZID:UTC
BEGIN:STANDARD
TZOFFSETFROM:+0000
TZOFFSETTO:+0000
TZNAME:UTC
DTSTART:20210101T000000
END:STANDARD
END:VTIMEZONE
BEGIN:VEVENT
DTSTART;TZID=UTC:20220328T143000
DTEND;TZID=UTC:20220328T160000
DTSTAMP:20260420T215323
CREATED:20220316T165618Z
LAST-MODIFIED:20220316T165618Z
UID:10084290-1648477800-1648483200@investinangus.com
SUMMARY:The 150th Open industry webinar
DESCRIPTION:Join us at this upcoming industry webinar on 28 March from 2.30pm – 4.30pm focusing on the 150th Open Championship coming to Fife this summer. \nFind out more about this major golfing event coming to Fife and how your businesses can make the most of this exciting opportunity.
URL:https://investinangus.com/event/the-150th-open-industry-webinar/
CATEGORIES:Tourism
END:VEVENT
END:VCALENDAR