BEGIN:VCALENDAR
VERSION:2.0
PRODID:-//Invest in Angus - ECPv6.15.17.1//NONSGML v1.0//EN
CALSCALE:GREGORIAN
METHOD:PUBLISH
X-ORIGINAL-URL:https://investinangus.com
X-WR-CALDESC:Events for Invest in Angus
REFRESH-INTERVAL;VALUE=DURATION:PT1H
X-Robots-Tag:noindex
X-PUBLISHED-TTL:PT1H
BEGIN:VTIMEZONE
TZID:UTC
BEGIN:STANDARD
TZOFFSETFROM:+0000
TZOFFSETTO:+0000
TZNAME:UTC
DTSTART:20210101T000000
END:STANDARD
END:VTIMEZONE
BEGIN:VEVENT
DTSTART;TZID=UTC:20221019T110000
DTEND;TZID=UTC:20221019T120000
DTSTAMP:20260424T052501
CREATED:20221018T110627Z
LAST-MODIFIED:20221018T110627Z
UID:10085690-1666177200-1666180800@investinangus.com
SUMMARY:Fire Safety within Short-Term Lets
DESCRIPTION:We are delighted to welcome James Saunders\, Station Commander\, Scottish Fire and Rescue Service (SFRS) to share an overview of what fire safety measures are expected within short-term let premises. James will cover the following \n\nPremises Profile: including occupancy capacity; home sharing; escape routes; internal floor space\nFire Risk Assessments: including inspection requirements; guests’ needs in relation to fire safety; doors & exits; firefighting equipment (extinguishers); automatic fire detection; emergency lighting; fire log book\nThere will be the opportunity for questions & answers throughout the session.\n\nJames Saunders\, Station Commander\, Scottish Fire & Rescue Service has worked in the fire service for over 25 years and is currently Deputy Head of Fire Safety Enforcement. \nThis one-hour webinar will form the basis of presentations with questions & answers session. Please submit questions in advance to joyce@assc.co.uk. \nTerms: \n\nAttendance at the “ASSC Talks” is free to ASSC members as a way of continuing to add value to the already cost-effective membership\nNon-members are very welcome to book. Attendance for Non-ASSC members is £25 including VAT per Talk
URL:https://investinangus.com/event/fire-safety-within-short-term-lets/
CATEGORIES:Tourism
END:VEVENT
END:VCALENDAR