BEGIN:VCALENDAR
VERSION:2.0
PRODID:-//Invest in Angus - ECPv6.15.17.1//NONSGML v1.0//EN
CALSCALE:GREGORIAN
METHOD:PUBLISH
X-ORIGINAL-URL:https://investinangus.com
X-WR-CALDESC:Events for Invest in Angus
REFRESH-INTERVAL;VALUE=DURATION:PT1H
X-Robots-Tag:noindex
X-PUBLISHED-TTL:PT1H
BEGIN:VTIMEZONE
TZID:UTC
BEGIN:STANDARD
TZOFFSETFROM:+0000
TZOFFSETTO:+0000
TZNAME:UTC
DTSTART:20210101T000000
END:STANDARD
END:VTIMEZONE
BEGIN:VEVENT
DTSTART;TZID=UTC:20221027T110000
DTEND;TZID=UTC:20221027T120000
DTSTAMP:20260424T052459
CREATED:20221017T153141Z
LAST-MODIFIED:20221017T153141Z
UID:10085672-1666868400-1666872000@investinangus.com
SUMMARY:Digital fundamentals for tourism businesses
DESCRIPTION:At the end of this webinar you’ll have learned about: \n\nGetting your business visible online with the right content\, at the right time\, on the right platforms.\nAssessing the quality of your online presence and knowing if you reach your intended audience.\nThe different online booking and distribution platforms available to tourism businesses.\nCost-effective digital marketing\, including reducing your carbon footprint.\nThe first steps in ensuring your content is SEO (Search Engine Optimisation) friendly.
URL:https://investinangus.com/event/digital-fundamentals-for-tourism-businesses-3/
CATEGORIES:Digital Marketing,Tourism
END:VEVENT
END:VCALENDAR