BEGIN:VCALENDAR
VERSION:2.0
PRODID:-//Invest in Angus - ECPv6.15.17.1//NONSGML v1.0//EN
CALSCALE:GREGORIAN
METHOD:PUBLISH
X-WR-CALNAME:Invest in Angus
X-ORIGINAL-URL:https://investinangus.com
X-WR-CALDESC:Events for Invest in Angus
REFRESH-INTERVAL;VALUE=DURATION:PT1H
X-Robots-Tag:noindex
X-PUBLISHED-TTL:PT1H
BEGIN:VTIMEZONE
TZID:UTC
BEGIN:STANDARD
TZOFFSETFROM:+0000
TZOFFSETTO:+0000
TZNAME:UTC
DTSTART:20210101T000000
END:STANDARD
END:VTIMEZONE
BEGIN:VEVENT
DTSTART;TZID=UTC:20221208T110000
DTEND;TZID=UTC:20221208T123000
DTSTAMP:20260423T215355
CREATED:20221031T093356Z
LAST-MODIFIED:20221031T093356Z
UID:10085803-1670497200-1670502600@investinangus.com
SUMMARY:Blogging for Tourism Businesses
DESCRIPTION:Learn the fundamentals of cost-effectively preparing\, writing\, and distributing blogs that your visitors will read. Making sure that that your effort inspires and helps your visitor to plan and book their trip with you. \nGet tools to help you research\, understand your customer and write highly targeted content which will help to optimise your website and grow your list of followers.
URL:https://investinangus.com/event/blogging-for-tourism-businesses-2/
CATEGORIES:Digital Marketing,Tourism
END:VEVENT
END:VCALENDAR