BEGIN:VCALENDAR
VERSION:2.0
PRODID:-//Invest in Angus - ECPv6.15.17.1//NONSGML v1.0//EN
CALSCALE:GREGORIAN
METHOD:PUBLISH
X-WR-CALNAME:Invest in Angus
X-ORIGINAL-URL:https://investinangus.com
X-WR-CALDESC:Events for Invest in Angus
REFRESH-INTERVAL;VALUE=DURATION:PT1H
X-Robots-Tag:noindex
X-PUBLISHED-TTL:PT1H
BEGIN:VTIMEZONE
TZID:UTC
BEGIN:STANDARD
TZOFFSETFROM:+0000
TZOFFSETTO:+0000
TZNAME:UTC
DTSTART:20220101T000000
END:STANDARD
END:VTIMEZONE
BEGIN:VEVENT
DTSTART;TZID=UTC:20230201T110000
DTEND;TZID=UTC:20230201T120000
DTSTAMP:20260423T112216
CREATED:20230130T112220Z
LAST-MODIFIED:20230130T112220Z
UID:10086368-1675249200-1675252800@investinangus.com
SUMMARY:Talking Tourism: 2023 catch-up with VisitScotland
DESCRIPTION:Prepare for the 2023 season and discover what insights and trends to look out for this year! Joined by the Highland region’s Industry Relationship Manager\, find out what business support VisitScotland can offer including: \n\nOne-on-one advice\nQuality Assurance schemes (and how they can help your business!)\nInternationalisation\nDigital
URL:https://investinangus.com/event/talking-tourism-2023-catch-up-with-visitscotland/
CATEGORIES:Business Planning,Digital Marketing,Networking,Tourism
END:VEVENT
END:VCALENDAR