BEGIN:VCALENDAR
VERSION:2.0
PRODID:-//Invest in Angus - ECPv6.15.17.1//NONSGML v1.0//EN
CALSCALE:GREGORIAN
METHOD:PUBLISH
X-ORIGINAL-URL:https://investinangus.com
X-WR-CALDESC:Events for Invest in Angus
REFRESH-INTERVAL;VALUE=DURATION:PT1H
X-Robots-Tag:noindex
X-PUBLISHED-TTL:PT1H
BEGIN:VTIMEZONE
TZID:UTC
BEGIN:STANDARD
TZOFFSETFROM:+0000
TZOFFSETTO:+0000
TZNAME:UTC
DTSTART:20220101T000000
END:STANDARD
END:VTIMEZONE
BEGIN:VEVENT
DTSTART;TZID=UTC:20230220T110000
DTEND;TZID=UTC:20230220T120000
DTSTAMP:20260423T112630
CREATED:20230206T094246Z
LAST-MODIFIED:20230206T094246Z
UID:10086445-1676890800-1676894400@investinangus.com
SUMMARY:How to create sustainable tourism experiences to reduce seasonality
DESCRIPTION:Join Xavier Font\, Professor of Sustainability Marketing at the University of Surrey\, to hear how you can extend the season for your business through sustainable tourism. \nIn this free webinar\, you will learn how to effectively use sustainable tourism as a tool for product development\, marketing and developing engaging visitor experiences. \nThis webinar will cover:\n• Products making the way for experiences\n• How to adapt your offering to suit varying seasons\, markets\, and customers\n• Making valuable use of the low-season\n• Designing innovative experiences and driving demand\n• The importance of marketing and storytelling\n• Setting expectations and visualising the benefits of sustainable tourism experiences \nAdvance sign-up is required for this free event\, so register your space today.
URL:https://investinangus.com/event/how-to-create-sustainable-tourism-experiences-to-reduce-seasonality/
CATEGORIES:Business Planning,Sustainable/Circular Economy,Tourism
END:VEVENT
END:VCALENDAR