BEGIN:VCALENDAR
VERSION:2.0
PRODID:-//Invest in Angus - ECPv6.15.17.1//NONSGML v1.0//EN
CALSCALE:GREGORIAN
METHOD:PUBLISH
X-ORIGINAL-URL:https://investinangus.com
X-WR-CALDESC:Events for Invest in Angus
REFRESH-INTERVAL;VALUE=DURATION:PT1H
X-Robots-Tag:noindex
X-PUBLISHED-TTL:PT1H
BEGIN:VTIMEZONE
TZID:UTC
BEGIN:STANDARD
TZOFFSETFROM:+0000
TZOFFSETTO:+0000
TZNAME:UTC
DTSTART:20220101T000000
END:STANDARD
END:VTIMEZONE
BEGIN:VEVENT
DTSTART;TZID=UTC:20230227T160000
DTEND;TZID=UTC:20230227T180000
DTSTAMP:20260423T023947
CREATED:20230210T111124Z
LAST-MODIFIED:20230210T112018Z
UID:10086456-1677513600-1677520800@investinangus.com
SUMMARY:Angus Outdoor Adventure Strategy Workshop
DESCRIPTION:Book your free place today at the Angus Outdoor Adventure Strategy Workshop – Come along\, have your say and get involved in how outdoor adventure tourism is developed in Angus. \nThe Angus Tourism Cooperative are undertaking a tourism planning process that will result in an Outdoor Adventure Tourism Strategy with the aim of raising awareness of outdoor adventure\, nature\, health and wellbeing focussed tourism activities in Angus. \nThis is an exciting initiative that will give the Marine\, Adventure\, Health and Well-being and Wildlife tourism industry a unique opportunity to look at emerging opportunities\, and to discuss ways of addressing issues and concerns that together will generate a greater return from our visitors and build a stronger industry. \nThis is a critical time as we emerge from Covid-19\, face new consumer trends & expectations\, and adapt to a future net zero agenda. Now is the time to help shape the future of the sector in Angus. \nAs part of this process\, we would like to invite you to participate in one of our upcoming workshops being held in Angus. At the workshops we will share with you the key findings to date and importantly the latest outdoor adventure market trends. \nThe workshops will focus on questions such as: \n1. What is the current provision of outdoor experiences in Angus\, and do they meet consumer expectations? \n2. What are the gaps within the current offering and can we identify the potential to develop achievable\, deliverable activities and experiences within Angus? \n3. What differentiates Angus and gives us a competitive advantage as a Marine\, Adventure and Wildlife tourism destination? \n4. What factors are hindering sustainable growth of outdoors adventure tourism in Angus\, and how do we build on our advantages and strengthen the return on our key markets? \nBTS is working with The Angus Tourism Cooperative on the planning process and will facilitate these workshops. We invite you to participate in a workshop to discuss your aspirations and thoughts for outdoors adventure in Angus and to assist in identifying the most appropriate steps that should be taken in the next five years. \nThese workshops are the initial phase of consultation and we are looking forward to working with you in the ongoing process of developing the strategy. \nEvent Dates \nThe workshops are being held on the following dates and you can book your place on one of the workshops by clicking the links below: \n\nMonday 27th February; 4.00pm – 6.00pm; Murton Farm\, Murton Steading; Arbroath Road; Forfar\, DD8 2RZ; http://bit.ly/3HD0CXe \nTuesday 28th February; 9.30 – 11.30pm; Forbes of Kingennie Country Resort; Kingennie\, Broughty Ferry\, DD5 3RD;  http://bit.ly/40JRPeH \n\nThe workshops are open to any business\, community group\, local authority with an interest in Marine\, Adventure\, Health and Well-Being or Wildlife Tourism in Angus.
URL:https://investinangus.com/event/angus-outdoor-adventure-strategy-workshop/
LOCATION:Murton Farm\, Arbroath Road\, Forfar\, DD8 2RZ
CATEGORIES:Tourism
END:VEVENT
END:VCALENDAR