BEGIN:VCALENDAR
VERSION:2.0
PRODID:-//Invest in Angus - ECPv6.15.17.1//NONSGML v1.0//EN
CALSCALE:GREGORIAN
METHOD:PUBLISH
X-WR-CALNAME:Invest in Angus
X-ORIGINAL-URL:https://investinangus.com
X-WR-CALDESC:Events for Invest in Angus
REFRESH-INTERVAL;VALUE=DURATION:PT1H
X-Robots-Tag:noindex
X-PUBLISHED-TTL:PT1H
BEGIN:VTIMEZONE
TZID:UTC
BEGIN:STANDARD
TZOFFSETFROM:+0000
TZOFFSETTO:+0000
TZNAME:UTC
DTSTART:20220101T000000
END:STANDARD
END:VTIMEZONE
BEGIN:VEVENT
DTSTART;TZID=UTC:20230228T093000
DTEND;TZID=UTC:20230228T113000
DTSTAMP:20260419T231221
CREATED:20230210T111309Z
LAST-MODIFIED:20230210T112025Z
UID:10086459-1677576600-1677583800@investinangus.com
SUMMARY:Angus Outdoor Adventure Strategy Workshop
DESCRIPTION:Book your free place today at the Angus Outdoor Adventure Strategy Workshop – Come along\, have your say and get involved in how outdoor adventure tourism is developed in Angus. \nThe Angus Tourism Cooperative are undertaking a tourism planning process that will result in an Outdoor Adventure Tourism Strategy with the aim of raising awareness of outdoor adventure\, nature\, health and wellbeing focussed tourism activities in Angus. \nThis is an exciting initiative that will give the Marine\, Adventure\, Health and Well-being and Wildlife tourism industry a unique opportunity to look at emerging opportunities\, and to discuss ways of addressing issues and concerns that together will generate a greater return from our visitors and build a stronger industry. \nThis is a critical time as we emerge from Covid-19\, face new consumer trends & expectations\, and adapt to a future net zero agenda. Now is the time to help shape the future of the sector in Angus. \nAs part of this process\, we would like to invite you to participate in one of our upcoming workshops being held in Angus. At the workshops we will share with you the key findings to date and importantly the latest outdoor adventure market trends. \nThe workshops will focus on questions such as: \n1. What is the current provision of outdoor experiences in Angus\, and do they meet consumer expectations? \n2. What are the gaps within the current offering and can we identify the potential to develop achievable\, deliverable activities and experiences within Angus? \n3. What differentiates Angus and gives us a competitive advantage as a Marine\, Adventure and Wildlife tourism destination? \n4. What factors are hindering sustainable growth of outdoors adventure tourism in Angus\, and how do we build on our advantages and strengthen the return on our key markets? \nBTS is working with The Angus Tourism Cooperative on the planning process and will facilitate these workshops. We invite you to participate in a workshop to discuss your aspirations and thoughts for outdoors adventure in Angus and to assist in identifying the most appropriate steps that should be taken in the next five years. \nThese workshops are the initial phase of consultation and we are looking forward to working with you in the ongoing process of developing the strategy. \nEvent Dates \nThe workshops are being held on the following dates and you can book your place on one of the workshops by clicking the links below: \n\nMonday 27th February; 4.00pm – 6.00pm; Murton Farm\, Murton Steading; Arbroath Road; Forfar\, DD8 2RZ; http://bit.ly/3HD0CXe \nTuesday 28th February; 9.30 – 11.30pm; Forbes of Kingennie Country Resort; Kingennie\, Broughty Ferry\, DD5 3RD;  http://bit.ly/40JRPeH \n\nThe workshops are open to any business\, community group\, local authority with an interest in Marine\, Adventure\, Health and Well-Being or Wildlife Tourism in Angus.
URL:https://investinangus.com/event/angus-outdoor-adventure-strategy-workshop-2/
LOCATION:Forbes of Kingennie\, DD5 3RD
CATEGORIES:Tourism
END:VEVENT
BEGIN:VEVENT
DTSTART;TZID=UTC:20230228T110000
DTEND;TZID=UTC:20230228T120000
DTSTAMP:20260419T231221
CREATED:20230213T143900Z
LAST-MODIFIED:20230213T143900Z
UID:10086467-1677582000-1677585600@investinangus.com
SUMMARY:Tourism industry webinar: free energy-saving advice and funding
DESCRIPTION:Business Energy Scotland are partnering with VisitScotland to deliver a free webinar to provide energy saving advice and highlight the funding and support available to tourism businesses. \nDiscover what free support is available so you can quickly get started making changes. \nJoin to learn about: \n\nThe interest-free loans available to Scottish small and medium-sized enterprises (SMEs) – currently with up to £30k cashback grants\nThe fully funded expert consultancy advice and support available to SMEs\nHow you can help your business minimise the impact of rising energy costs and reduce your carbon footprint\nBusinesses that have already implemented energy-saving changes\, what they did and the positive impact this has had on their business\n\nWho should attend? \nThis event is designed specifically for managers\, directors and owners of Scottish tourism businesses and organisations\, including accommodation providers\, attractions\, and more. This webinar will be especially useful for decision makers in these organisations who hold responsibility for business improvement\, and responsible and sustainable tourism targets.
URL:https://investinangus.com/event/tourism-industry-webinar-free-energy-saving-advice-and-funding/
CATEGORIES:Energy,Finance,Tourism
END:VEVENT
BEGIN:VEVENT
DTSTART;TZID=UTC:20230228T110000
DTEND;TZID=UTC:20230228T120000
DTSTAMP:20260419T231221
CREATED:20230213T144325Z
LAST-MODIFIED:20230213T144325Z
UID:10086475-1677582000-1677585600@investinangus.com
SUMMARY:Google and VisitScotland presents: tourism accommodation – make the most of Google Hotels and Google Vacation Rentals
DESCRIPTION:Join this special session for tourism accommodation (hotels\, B&Bs\, guest houses\, hostels and self-catering owners) with Google and VisitScotland. \nHear from Google as to how your business can take advantage of direct booking links on their Google Business Profile and in Google Maps. \nYou’ll also gain a better understanding of how to more effectively advertise your accommodation using Google Hotels and Google Vacation Rentals.
URL:https://investinangus.com/event/google-and-visitscotland-presents-tourism-accommodation-make-the-most-of-google-hotels-and-google-vacation-rentals/
CATEGORIES:Digital Marketing,Tourism
END:VEVENT
END:VCALENDAR