BEGIN:VCALENDAR
VERSION:2.0
PRODID:-//Invest in Angus - ECPv6.15.17.1//NONSGML v1.0//EN
CALSCALE:GREGORIAN
METHOD:PUBLISH
X-ORIGINAL-URL:https://investinangus.com
X-WR-CALDESC:Events for Invest in Angus
REFRESH-INTERVAL;VALUE=DURATION:PT1H
X-Robots-Tag:noindex
X-PUBLISHED-TTL:PT1H
BEGIN:VTIMEZONE
TZID:UTC
BEGIN:STANDARD
TZOFFSETFROM:+0000
TZOFFSETTO:+0000
TZNAME:UTC
DTSTART:20220101T000000
END:STANDARD
END:VTIMEZONE
BEGIN:VEVENT
DTSTART;TZID=UTC:20231003T110000
DTEND;TZID=UTC:20231003T120000
DTSTAMP:20260422T103114
CREATED:20230828T142013Z
LAST-MODIFIED:20230828T142013Z
UID:10087816-1696330800-1696334400@investinangus.com
SUMMARY:Tourism businesses: Make your website work for your customers – best practice in user experience (UX)
DESCRIPTION:Your website is your shop window to the world. It’s important to manage it well\, so find out how to attract and delight customers with it. \nAt the end of this webinar you will: \n\nUnderstand how users consume content.\nUnderstand the importance of knowing your online users’ experience and tailoring the customer journey on your website accordingly.\nFind out how to measure user experience cost-effectively.\nHave some great examples of making user experience work.
URL:https://investinangus.com/event/tourism-businesses-make-your-website-work-for-your-customers-best-practice-in-user-experience-ux-2/
CATEGORIES:Digital Marketing,Tourism
END:VEVENT
END:VCALENDAR