BEGIN:VCALENDAR
VERSION:2.0
PRODID:-//Invest in Angus - ECPv6.15.17.1//NONSGML v1.0//EN
CALSCALE:GREGORIAN
METHOD:PUBLISH
X-ORIGINAL-URL:https://investinangus.com
X-WR-CALDESC:Events for Invest in Angus
REFRESH-INTERVAL;VALUE=DURATION:PT1H
X-Robots-Tag:noindex
X-PUBLISHED-TTL:PT1H
BEGIN:VTIMEZONE
TZID:UTC
BEGIN:STANDARD
TZOFFSETFROM:+0000
TZOFFSETTO:+0000
TZNAME:UTC
DTSTART:20220101T000000
END:STANDARD
END:VTIMEZONE
BEGIN:VEVENT
DTSTART;TZID=UTC:20231005T110000
DTEND;TZID=UTC:20231005T123000
DTSTAMP:20260422T225829
CREATED:20230828T142608Z
LAST-MODIFIED:20230828T142608Z
UID:10087824-1696503600-1696509000@investinangus.com
SUMMARY:Tourism businesses: Instagram\, TikTok & YouTube - should you be on them and how?
DESCRIPTION:Learn how to maximise your content on Instagram\, TikTok\, and YouTube with our webinar designed specifically for tourism businesses. \nAttendees will gain insights into: \n\nUnderstanding key Social Media platforms: Learn about the differences between Instagram\, TikTok\, and YouTube\, including the best content to share for each.\nYour brand’s voice: This includes creating your unique social voice and the importance of creating personas for your business.\nPlatform best practices: Learn how to create meaningful\, engaging\, original and consistent content\, along with platform-specific best practices and creative content ideas for your business.\nShort-form video creation: Understanding the importance of short-form video content\, creating a video checklist\, adhering to best practices\, and using templates to create video’s\nTravel trends analysis: The webinar will also explore the latest travel trends on Instagram\, TikTok\, and YouTube\, helping you stay on top of current social media trends.
URL:https://investinangus.com/event/tourism-businesses-instagram-tiktok-youtube-should-you-be-on-them-and-how/
CATEGORIES:Digital Marketing,Tourism
END:VEVENT
END:VCALENDAR