BEGIN:VCALENDAR
VERSION:2.0
PRODID:-//Invest in Angus - ECPv6.15.17.1//NONSGML v1.0//EN
CALSCALE:GREGORIAN
METHOD:PUBLISH
X-ORIGINAL-URL:https://investinangus.com
X-WR-CALDESC:Events for Invest in Angus
REFRESH-INTERVAL;VALUE=DURATION:PT1H
X-Robots-Tag:noindex
X-PUBLISHED-TTL:PT1H
BEGIN:VTIMEZONE
TZID:UTC
BEGIN:STANDARD
TZOFFSETFROM:+0000
TZOFFSETTO:+0000
TZNAME:UTC
DTSTART:20220101T000000
END:STANDARD
END:VTIMEZONE
BEGIN:VEVENT
DTSTART;TZID=UTC:20231024T110000
DTEND;TZID=UTC:20231024T123000
DTSTAMP:20260422T103049
CREATED:20230828T151132Z
LAST-MODIFIED:20230828T151132Z
UID:10087850-1698145200-1698150600@investinangus.com
SUMMARY:Search Engine Optimisation (SEO) for tourism businesses – Part 1
DESCRIPTION:Join the first of two 90-minute webinars designed specifically to help you improve the search engine results rankings of your tourism business. \nIt’s more vital than ever to get your business to the first few places in the online search results page. These two 90-minute events will tell you all you need to know to improve your rankings\, including how search engines work. \nThis first session will show you how search engines work and we’ll show you the anatomy of results pages and what customers and clients look at on these pages. \nYou’ll see how to find out what key words people are using when they search for your service\, and we’ll demonstrate how you use that information to greatly increase your ranking in results pages.
URL:https://investinangus.com/event/search-engine-optimisation-seo-for-tourism-businesses-part-1-5/
CATEGORIES:Digital Marketing,Tourism
END:VEVENT
END:VCALENDAR