BEGIN:VCALENDAR
VERSION:2.0
PRODID:-//Invest in Angus - ECPv6.15.17.1//NONSGML v1.0//EN
CALSCALE:GREGORIAN
METHOD:PUBLISH
X-WR-CALNAME:Invest in Angus
X-ORIGINAL-URL:https://investinangus.com
X-WR-CALDESC:Events for Invest in Angus
REFRESH-INTERVAL;VALUE=DURATION:PT1H
X-Robots-Tag:noindex
X-PUBLISHED-TTL:PT1H
BEGIN:VTIMEZONE
TZID:UTC
BEGIN:STANDARD
TZOFFSETFROM:+0000
TZOFFSETTO:+0000
TZNAME:UTC
DTSTART:20230101T000000
END:STANDARD
END:VTIMEZONE
BEGIN:VEVENT
DTSTART;TZID=UTC:20240124T093000
DTEND;TZID=UTC:20240124T123000
DTSTAMP:20260422T030455
CREATED:20240115T104937Z
LAST-MODIFIED:20240115T104937Z
UID:10088480-1706088600-1706099400@investinangus.com
SUMMARY:Cruise business seminar 2024
DESCRIPTION:In 2024\, over 160 cruise ship visits will take place\, involving over 200\,000 passengers and crew. Not only will cruise ship passengers be on “day visits”\, many will be beginning or ending their cruise on the Forth or the Tay\, and will require accommodation or other services. Some ships stay overnight. \nAre you already a cruise friendly business\, operating within 90 minutes of the ports of Leith\, Newhaven\, South Queensferry\, Rosyth or Dundee (and even Greenock)? If you would like to know more about the opportunities\, or believe you have something to offer\, then this seminar is for you. \nThe event is organised by award winning CruiseForth\, a project that is entering its second decade\, and will be attended by cruise excursion representatives. \nPlease register you interest as soon as possible\, and by 8th January at the latest by sending an email to info@cruiseforth.com. The organisers normally only allows one representative per organisation.
URL:https://investinangus.com/event/cruise-business-seminar-2024/
LOCATION:Doubletree by Hilton\, North Queensferry\, St Margarets Head\, North Queensferry\, KY11 1HP
CATEGORIES:Tourism
END:VEVENT
END:VCALENDAR