BEGIN:VCALENDAR
VERSION:2.0
PRODID:-//Invest in Angus - ECPv6.15.17.1//NONSGML v1.0//EN
CALSCALE:GREGORIAN
METHOD:PUBLISH
X-WR-CALNAME:Invest in Angus
X-ORIGINAL-URL:https://investinangus.com
X-WR-CALDESC:Events for Invest in Angus
REFRESH-INTERVAL;VALUE=DURATION:PT1H
X-Robots-Tag:noindex
X-PUBLISHED-TTL:PT1H
BEGIN:VTIMEZONE
TZID:UTC
BEGIN:STANDARD
TZOFFSETFROM:+0000
TZOFFSETTO:+0000
TZNAME:UTC
DTSTART:20230101T000000
END:STANDARD
END:VTIMEZONE
BEGIN:VEVENT
DTSTART;TZID=UTC:20240202T100000
DTEND;TZID=UTC:20240202T120000
DTSTAMP:20260422T013846
CREATED:20240111T130007Z
LAST-MODIFIED:20240111T130007Z
UID:10088463-1706868000-1706875200@investinangus.com
SUMMARY:Accessible Tourism Open Day
DESCRIPTION:Located in the heart of the Fife countryside\, near Cupar\, The Rings offers self-catering accommodation with advanced accessibility features. \nOwner Moira Henderson is a passionate advocate for inclusive tourism and has developed innovative approaches to make her accommodations fully accessible. \nCome along to this informal event to witness firsthand Moira’s ingenious approach to accessibility\, and learn how to apply these methods to your own business to make it more inclusive.
URL:https://investinangus.com/event/accessible-tourism-open-day/
LOCATION:The Rings\, Chance Inn\, Cupar\, KY15 5QJ
CATEGORIES:Networking,Tourism
END:VEVENT
END:VCALENDAR