BEGIN:VCALENDAR
VERSION:2.0
PRODID:-//Invest in Angus - ECPv6.15.17.1//NONSGML v1.0//EN
CALSCALE:GREGORIAN
METHOD:PUBLISH
X-ORIGINAL-URL:https://investinangus.com
X-WR-CALDESC:Events for Invest in Angus
REFRESH-INTERVAL;VALUE=DURATION:PT1H
X-Robots-Tag:noindex
X-PUBLISHED-TTL:PT1H
BEGIN:VTIMEZONE
TZID:UTC
BEGIN:STANDARD
TZOFFSETFROM:+0000
TZOFFSETTO:+0000
TZNAME:UTC
DTSTART:20230101T000000
END:STANDARD
END:VTIMEZONE
BEGIN:VEVENT
DTSTART;TZID=UTC:20240206T113000
DTEND;TZID=UTC:20240206T170000
DTSTAMP:20260419T000836
CREATED:20240115T105127Z
LAST-MODIFIED:20240115T105127Z
UID:10088483-1707219000-1707238800@investinangus.com
SUMMARY:ETAG conference 2024
DESCRIPTION:Join industry colleagues at the ETAG Conference 2024 – the “must attend” event for everyone with an interest in Edinburgh’s visitor economy. \nThis year’s conference programme will include updates on Edinburgh’s visitor economy activity and developments. It will also highlight the latest tourism trends and insights. \nThe much loved “spotlight sessions” are still a firm fixture on the programme\, where you’ll hear about some of the exciting projects coming to the city over the coming year or so.
URL:https://investinangus.com/event/etag-conference-2024/
LOCATION:Edinburgh International Conference Centre\, 150 Morrison Street\, Edinburgh\, EH3 8EE
CATEGORIES:Networking,Tourism
END:VEVENT
END:VCALENDAR