BEGIN:VCALENDAR
VERSION:2.0
PRODID:-//Invest in Angus - ECPv6.15.17.1//NONSGML v1.0//EN
CALSCALE:GREGORIAN
METHOD:PUBLISH
X-WR-CALNAME:Invest in Angus
X-ORIGINAL-URL:https://investinangus.com
X-WR-CALDESC:Events for Invest in Angus
REFRESH-INTERVAL;VALUE=DURATION:PT1H
X-Robots-Tag:noindex
X-PUBLISHED-TTL:PT1H
BEGIN:VTIMEZONE
TZID:UTC
BEGIN:STANDARD
TZOFFSETFROM:+0000
TZOFFSETTO:+0000
TZNAME:UTC
DTSTART:20230101T000000
END:STANDARD
END:VTIMEZONE
BEGIN:VEVENT
DTSTART;TZID=UTC:20240208T090000
DTEND;TZID=UTC:20240208T170000
DTSTAMP:20260422T011346
CREATED:20240129T112112Z
LAST-MODIFIED:20240129T112112Z
UID:10088615-1707382800-1707411600@investinangus.com
SUMMARY:HIT Scotland Talent Conference
DESCRIPTION:The HIT Scotland Talent Conference will take place at the voco Grand Central Hotel in Glasgow on Thursday 8th February 2024. \nThe 2024 programme will bring you more inspirational and thought-provoking speakers\, which will challenge you and your teams to think differently about your roles and your business and how as an industry we can grow and inspire a skilled workforce. \nWe have created a programme that will inspire\, challenge and inform.  We are expecting over 500 attendees from across the hospitality and tourism sector in Scotland so as always the event will provide a brilliant platform for networking\, connecting and meeting with other like-minded professionals in our industry.
URL:https://investinangus.com/event/hit-scotland-talent-conference/
LOCATION:Voco Grand Central Hotel\, 99 Gordon Street\, Glasgow\, G1 3SF
CATEGORIES:Networking,Tourism
END:VEVENT
END:VCALENDAR