BEGIN:VCALENDAR
VERSION:2.0
PRODID:-//Invest in Angus - ECPv6.15.17.1//NONSGML v1.0//EN
CALSCALE:GREGORIAN
METHOD:PUBLISH
X-WR-CALNAME:Invest in Angus
X-ORIGINAL-URL:https://investinangus.com
X-WR-CALDESC:Events for Invest in Angus
REFRESH-INTERVAL;VALUE=DURATION:PT1H
X-Robots-Tag:noindex
X-PUBLISHED-TTL:PT1H
BEGIN:VTIMEZONE
TZID:UTC
BEGIN:STANDARD
TZOFFSETFROM:+0000
TZOFFSETTO:+0000
TZNAME:UTC
DTSTART:20230101T000000
END:STANDARD
END:VTIMEZONE
BEGIN:VEVENT
DTSTART;TZID=UTC:20240229T090000
DTEND;TZID=UTC:20240301T170000
DTSTAMP:20260421T234641
CREATED:20240117T145211Z
LAST-MODIFIED:20240117T145211Z
UID:10088505-1709197200-1709312400@investinangus.com
SUMMARY:SCOTO - Scottish Community Tourism National Gathering & Learning Exchange
DESCRIPTION:Welcome to the much-anticipated return of the Scottish National Community Tourism Gathering!\n\nFollowing the resounding success of last year’s event\, hailed as the ‘friendliest’ conference by many attendees\, we’re thrilled to announce that this year’s gathering is heading to the “Queen of the South”\, Dumfries. \nMeet us at the Cairndale Hotel\, Dumfries where we’ll celebrate SCOTO Network’s mission to build skills\, connections and confidence in people working in community-led tourism. \nThe theme of the conference this year is ‘Press Pause’ – we want communities to take time out to consider what is working\, what isn’t working and how things could be done better/differently to ensure tourism helps make your community an even better place to live\, work and visit. \nYour participation is not just an event attendance but an opportunity to share insights\, experiences and innovative ideas that can contribute and empower the SCOTO Network. \nWhether you’re a community tourism activist or simply interested in knowing more about community led tourism in Scotland\, this gathering is perfect for you. \nConnect with like-minded individuals from across Scotland\, share ideas\, and discover new ways to develop and promote responsible tourism\, which brings real benefits back into the host community. \nSee the event programme.
URL:https://investinangus.com/event/scoto-scottish-community-tourism-national-gathering-learning-exchange/
LOCATION:Cairndale Hotel\, English Street\, Dumfries\, DG1 2DF
CATEGORIES:Networking,Tourism
END:VEVENT
END:VCALENDAR