BEGIN:VCALENDAR
VERSION:2.0
PRODID:-//Invest in Angus - ECPv6.15.17.1//NONSGML v1.0//EN
CALSCALE:GREGORIAN
METHOD:PUBLISH
X-ORIGINAL-URL:https://investinangus.com
X-WR-CALDESC:Events for Invest in Angus
REFRESH-INTERVAL;VALUE=DURATION:PT1H
X-Robots-Tag:noindex
X-PUBLISHED-TTL:PT1H
BEGIN:VTIMEZONE
TZID:UTC
BEGIN:STANDARD
TZOFFSETFROM:+0000
TZOFFSETTO:+0000
TZNAME:UTC
DTSTART:20230101T000000
END:STANDARD
END:VTIMEZONE
BEGIN:VEVENT
DTSTART;TZID=UTC:20240305T113000
DTEND;TZID=UTC:20240305T123000
DTSTAMP:20260419T072016
CREATED:20240304T105940Z
LAST-MODIFIED:20240304T105940Z
UID:10088794-1709638200-1709641800@investinangus.com
SUMMARY:Unlocking the potential of Accessible Tourism
DESCRIPTION:In this introduction to accessible and inclusive tourism\, hear from VisitScotland’s Inclusive Tourism Manager about the value of accessible tourism market\, the barriers that some consumers face and how best to attract these extremely loyal customers. \nThe session will also include information about Accessibility Guides\, what are they and why are they important to this market. Insights on this will be provided by Carrie-Ann Lightley\, Head of Marketing at AccessAble\, an accessibility guide specialist. \nWe will also hear from Pippa Stacey an award-winning writer\, speaker\, and charity sector communication consultant about her experience of travelling and living her best life alongside chronic illness. \nBoth Carrie-Ann and Pippa have been named in the Shaw Trust Disability Power 100 list multiple times. \nPacked with practical advice and top tips to implement in your business\, guidance on a range of helpful resources\, and key insights into this valuable market this workshop is not to be missed.
URL:https://investinangus.com/event/unlocking-the-potential-of-accessible-tourism/
CATEGORIES:Tourism
END:VEVENT
END:VCALENDAR