BEGIN:VCALENDAR
VERSION:2.0
PRODID:-//Invest in Angus - ECPv6.15.17.1//NONSGML v1.0//EN
CALSCALE:GREGORIAN
METHOD:PUBLISH
X-WR-CALNAME:Invest in Angus
X-ORIGINAL-URL:https://investinangus.com
X-WR-CALDESC:Events for Invest in Angus
REFRESH-INTERVAL;VALUE=DURATION:PT1H
X-Robots-Tag:noindex
X-PUBLISHED-TTL:PT1H
BEGIN:VTIMEZONE
TZID:UTC
BEGIN:STANDARD
TZOFFSETFROM:+0000
TZOFFSETTO:+0000
TZNAME:UTC
DTSTART:20230101T000000
END:STANDARD
END:VTIMEZONE
BEGIN:VEVENT
DTSTART;TZID=UTC:20240521T100000
DTEND;TZID=UTC:20240521T160000
DTSTAMP:20260421T161353
CREATED:20240501T161953Z
LAST-MODIFIED:20240501T161953Z
UID:10089200-1716285600-1716307200@investinangus.com
SUMMARY:Recruiting\, Training & Retaining Staff - Monitor Farms Programme
DESCRIPTION:This Monitor Farm meeting takes place on Tuesday 21 May 2024 at Charleton Fruit Farm and Arbikie Distillery. The focus of the meeting is on recruiting\, training and retaining staff. \nRegistration is at 10am at Charleton Fruit Farm with the meeting starting at 10.30am and lunch will be provided. \nGraeme and Lisa from Charleton will provide a tour of the business and speak about staffing within their business. There will also be experts providing further information on the topic including employment law. \nWe will then move to Arbikie Distillery at 2.30pm for the final part of the meeting and a representative from Arbikie will speak about how the business has developed over the past few years and how they recruit\, train and retain a great staff team. This will be followed by a tour of the distillery and the new accommodation. \nAll welcome. \nThe meeting itself is free to attend and all agritourism\, rural tourism and rural food and drink businesses are welcome as well as farmers and crofters considering agritourism.
URL:https://investinangus.com/event/recruiting-training-retaining-staff-monitor-farms-programme/
LOCATION:Charleton Farm\, Montrose\, DD10 9EW
CATEGORIES:Food & Drink,Networking,Tourism
END:VEVENT
END:VCALENDAR