BEGIN:VCALENDAR
VERSION:2.0
PRODID:-//Invest in Angus - ECPv6.15.17.1//NONSGML v1.0//EN
CALSCALE:GREGORIAN
METHOD:PUBLISH
X-WR-CALNAME:Invest in Angus
X-ORIGINAL-URL:https://investinangus.com
X-WR-CALDESC:Events for Invest in Angus
REFRESH-INTERVAL;VALUE=DURATION:PT1H
X-Robots-Tag:noindex
X-PUBLISHED-TTL:PT1H
BEGIN:VTIMEZONE
TZID:UTC
BEGIN:STANDARD
TZOFFSETFROM:+0000
TZOFFSETTO:+0000
TZNAME:UTC
DTSTART:20230101T000000
END:STANDARD
END:VTIMEZONE
BEGIN:VEVENT
DTSTART;TZID=UTC:20240829T140000
DTEND;TZID=UTC:20240829T160000
DTSTAMP:20260421T044210
CREATED:20240708T091201Z
LAST-MODIFIED:20240708T091201Z
UID:10089580-1724940000-1724947200@investinangus.com
SUMMARY:Maximising Trade Show Success
DESCRIPTION:Are you looking to exhibit at trade shows in the UK or overseas? This workshop will teach you proven strategies to maximise your participation through pre-event\, on-site\, and post-event tactics. These tips will help you capitalise on your participation\, meet your target audience\, and stand out from competitors. \nWith over 25 years of experience in PR and marketing\, our expert speaker Mandy Queen has created successful campaigns for more than 40 trade shows\, including top events like Cosmoprof\, Paperworld\, and Seafood Expo. \nIn this workshop\, Mandy will explain how to attract the right people\, engage with them effectively at the event\, and maintain momentum afterwards. \nDon’t miss this opportunity to transform your trade show success. Book your place now.
URL:https://investinangus.com/event/maximising-trade-show-success/
LOCATION:Strathmore Rugby Club\, Inchmacoble Park\, Forfar\, DD8 1RL
CATEGORIES:Business Planning,Networking,Tourism
END:VEVENT
END:VCALENDAR