BEGIN:VCALENDAR
VERSION:2.0
PRODID:-//Invest in Angus - ECPv6.15.17.1//NONSGML v1.0//EN
CALSCALE:GREGORIAN
METHOD:PUBLISH
X-ORIGINAL-URL:https://investinangus.com
X-WR-CALDESC:Events for Invest in Angus
REFRESH-INTERVAL;VALUE=DURATION:PT1H
X-Robots-Tag:noindex
X-PUBLISHED-TTL:PT1H
BEGIN:VTIMEZONE
TZID:UTC
BEGIN:STANDARD
TZOFFSETFROM:+0000
TZOFFSETTO:+0000
TZNAME:UTC
DTSTART:20230101T000000
END:STANDARD
END:VTIMEZONE
BEGIN:VEVENT
DTSTART;TZID=UTC:20240903T140000
DTEND;TZID=UTC:20240903T170000
DTSTAMP:20260421T095339
CREATED:20240821T123505Z
LAST-MODIFIED:20240821T123505Z
UID:10089853-1725372000-1725382800@investinangus.com
SUMMARY:Scotland's Tay Country - Travel Trade Strategy Development Workshop
DESCRIPTION:Are you a business in Scotland’s Tay Country that already engages with the travel trade or has recently undergone travel trade training? We have the pleasure of inviting you to our in-person Travel Trade follow-up session designed for you. This event will help enhance your travel trade strategy and support you in growing sales from international markets. \nEvent Details: \n\nDate: Tuesday 3rd September\nTime: 14.00 – 17.00hrs\nLocation: The Black Watch Castle & Museum\, Perth\nDuration: 3 hours\nRefreshments Provided\n\nWorkshop Overview: \nSESSION 1 \nWelcome and Update – Jemma Reid\, Travel Trade Sales Representative\, Scotland’s Tay Country: Start the event with an insightful update on the latest developments and opportunities in Scotland’s Tay Country. \nInsights and Trends Update: Learn about the latest trends and insights from key markets\, and understand what operators and their clients are currently looking for. \n\nVisitScotland – Lynette McLennan\nExpedia – Kim Kjaerside & Nicola Cunningham\n\nMini Breakout Sessions: Participate in focused breakout sessions to: \nDiscuss challenges and opportunities in driving more enquiries to your business and the region and identify key hurdles and explore collaborative solutions \nNetworking Break: Enjoy refreshments while connecting with fellow businesses\, enabling new partnerships\, and exchanging ideas. \nSESSION 2 \nFeedback Review: Share key learnings\, top tips and successes \nCase Studies: Learn from two successful case studies showcasing their journey and achievements in the travel trade and giving you top tips and recommendations. Heather McArthur\, Scone Palace & Louise Nicoll\, Newton Farm \nPanel Discussion: Engage with a panel of experienced operators during a Q&A session to address challenges and uncover opportunities for growth in travel trade enquiries. \n\nSarah Muir – Abbey Tours\nFiona Matthews – ASA\nJacqui Curley – Best of Scotland\nHeather McArthur – Scone Palace\nLouise Nicoll – Newton Farm\n\nSummary of Support: \nVisitScotland – Lynette McLennan: Discover the support their teams and channels can provide\, and learn about opportunities to present and engage with tour operators. \nUKInbound- Karen Jacques: Hear what the national membership organisation can do for your business. \nTay Country – Jemma Reid: Explore tools to support your business including newsletters\, presentations and trade show representation. \nWhy Attend? \n\nGain valuable updates on the travel trade landscape\nCollaborate with peers to overcome common challenges\nLearn from successful case studies and industry experts\nExpand your network within the travel trade community\nTop tip takeaways\nTogether we can put Scotland’s Tay Country firmly on the map for tour operators and DMCs.
URL:https://investinangus.com/event/scotlands-tay-country-travel-trade-strategy-development-workshop/
LOCATION:The Black Watch Castle & Museum\, Perth\, PH1 5HR
CATEGORIES:Tourism
END:VEVENT
BEGIN:VEVENT
DTSTART;TZID=UTC:20240903T143000
DTEND;TZID=UTC:20240903T153000
DTSTAMP:20260421T095339
CREATED:20240826T125815Z
LAST-MODIFIED:20240826T125815Z
UID:10089872-1725373800-1725377400@investinangus.com
SUMMARY:Climate action for tourism businesses
DESCRIPTION:We are delighted to invite you to an engaging and informative webinar focused on supporting tourism and hospitality businesses to take climate action. Working with VisitScotland\, Green Tourism and Green Key this session is tailored for tourism businesses and event organizers who are committed to sustainability and eager to make a positive environmental impact. \nThis event is open to businesses from across the tourism and event supply chain including; hotels\, venues\, production companies\, food and beverage suppliers\, transportation\, activity providers\, attractions\, tour operators\, cruise agencies\, travel agents\, DMCs and/or PCOs. \nEvent Details: \nDate: 3 September\nTime: 14:30 to 15:20\nLocation: Webinar – Teams link will be sent to all those registered on Friday 30 August \nWebinar Agenda: \n2.30pm – Welcome from Glasgow Life \n2.35pm – VisitScotland\, Tiomoid Foley: Resources and support available for your businesses. \n2.50pm – Green Key\, Jamie Ormiston: An overview of the accreditation process and benefits. \n3.00pm – Green Tourism\, Scott MacLean: An overview of the accreditation process and benefits. \n3.10pm – Q & A \n3.20pm – Finish \nJoin us for this essential webinar and discover how your business can lead the way in climate action within the tourism and events sector. Gain valuable insights\, access to innovative tools\, and connect with like-minded professionals dedicated to sustainability. \nRSVP: Please confirm your attendance by Tuesday 27 August by emailing anne-marie.gray@glasgowlife.org.uk \nWe look forward to your participation in this crucial conversation on sustainable tourism.
URL:https://investinangus.com/event/climate-action-for-tourism-businesses/
CATEGORIES:Sustainable/Circular Economy,Tourism
END:VEVENT
END:VCALENDAR