BEGIN:VCALENDAR
VERSION:2.0
PRODID:-//Invest in Angus - ECPv6.15.17.1//NONSGML v1.0//EN
CALSCALE:GREGORIAN
METHOD:PUBLISH
X-ORIGINAL-URL:https://investinangus.com
X-WR-CALDESC:Events for Invest in Angus
REFRESH-INTERVAL;VALUE=DURATION:PT1H
X-Robots-Tag:noindex
X-PUBLISHED-TTL:PT1H
BEGIN:VTIMEZONE
TZID:UTC
BEGIN:STANDARD
TZOFFSETFROM:+0000
TZOFFSETTO:+0000
TZNAME:UTC
DTSTART:20230101T000000
END:STANDARD
END:VTIMEZONE
BEGIN:VEVENT
DTSTART;TZID=UTC:20241023T090000
DTEND;TZID=UTC:20241023T160000
DTSTAMP:20260420T001250
CREATED:20240912T145140Z
LAST-MODIFIED:20240912T145140Z
UID:10089991-1729674000-1729699200@investinangus.com
SUMMARY:Perthshire Talks Responsible Tourism: welcoming all customers
DESCRIPTION:This free in-person event will take place on 23 October at Perth Concert Hall\, from 9.15am\, finishing at 4.00pm. \nThis event will provide businesses with tips and advice on how to improve customer service for disabled customers\, which we know also benefits other customer groups. \nThis course will include activities\, exercises\, and discussions. Each participant will receive a guide containing practical tips and a jointly branded VisitScotland / Welcoming All Customers course certificate. \nBusinesses will learn about: \n\nadopting a positive attitude to all customers and anticipating accessibility requirements\nsuccessful communication styles to identify customer needs\nlegal obligations and types of discrimination\n\n*Please note this training event is available to businesses who attended either of the following webinars: \n\nPerthshire Talks Tourism: unlock the potential of accessible tourism\nPerthshire Talks Tourism: access information to promote your business\n\nThe registration for the event will go live on 3 October 2024. See https://www.visitscotland.org/news/2024/perthshire-talks-tourism-webinars for booking information. \nThis event has limited places and will be on a first come\, first serve basis. To allow more businesses the opportunity to be trained\, only one person from each business can attend.
URL:https://investinangus.com/event/perthshire-talks-responsible-tourism-welcoming-all-customers/
LOCATION:Perth Concert Hall\, Mill Street\, Perth\, PH1 5HZ
CATEGORIES:Tourism
END:VEVENT
END:VCALENDAR