BEGIN:VCALENDAR
VERSION:2.0
PRODID:-//Invest in Angus - ECPv6.15.17.1//NONSGML v1.0//EN
CALSCALE:GREGORIAN
METHOD:PUBLISH
X-ORIGINAL-URL:https://investinangus.com
X-WR-CALDESC:Events for Invest in Angus
REFRESH-INTERVAL;VALUE=DURATION:PT1H
X-Robots-Tag:noindex
X-PUBLISHED-TTL:PT1H
BEGIN:VTIMEZONE
TZID:UTC
BEGIN:STANDARD
TZOFFSETFROM:+0000
TZOFFSETTO:+0000
TZNAME:UTC
DTSTART:20230101T000000
END:STANDARD
END:VTIMEZONE
BEGIN:VEVENT
DTSTART;TZID=UTC:20241104T100000
DTEND;TZID=UTC:20241104T150000
DTSTAMP:20260420T141411
CREATED:20241021T162710Z
LAST-MODIFIED:20241021T162710Z
UID:10090176-1730714400-1730732400@investinangus.com
SUMMARY:Developing a Successful Agritourism Retail Business
DESCRIPTION:Join Scotland’s Agritourism Monitor Farms Programme for an informative event focused on developing successful retail in an agritourism business. \nWhether you’re an established agritourism business or just starting out\, this event at Carfrae Farm will help you consider how to run a successful retail enterprise. We will be joined by Retail Experts who will talk us through the key challenges for retail at this time and provide insights from their own experience. \nWe will also have an opportunity to hear from our hosts and Core Community Group Members\, Trudi and Eric Cueto about the progress and developments at Carfrae Farm. We will be able to have a walk around the business which includes a Farm Shop\, Snug offering a place to enjoy coffee and cake\, holiday accommodation \, workshops and more recently wellness retreats. \nThere will be an opportunity to share thoughts & ideas and network over lunchtime.
URL:https://investinangus.com/event/developing-a-successful-agritourism-retail-business/
LOCATION:Carfrae Farm Shop\, Haddington\, EH41 4LP
CATEGORIES:Retail,Tourism
END:VEVENT
END:VCALENDAR