BEGIN:VCALENDAR
VERSION:2.0
PRODID:-//Invest in Angus - ECPv6.15.17.1//NONSGML v1.0//EN
CALSCALE:GREGORIAN
METHOD:PUBLISH
X-WR-CALNAME:Invest in Angus
X-ORIGINAL-URL:https://investinangus.com
X-WR-CALDESC:Events for Invest in Angus
REFRESH-INTERVAL;VALUE=DURATION:PT1H
X-Robots-Tag:noindex
X-PUBLISHED-TTL:PT1H
BEGIN:VTIMEZONE
TZID:UTC
BEGIN:STANDARD
TZOFFSETFROM:+0000
TZOFFSETTO:+0000
TZNAME:UTC
DTSTART:20230101T000000
END:STANDARD
END:VTIMEZONE
BEGIN:VEVENT
DTSTART;TZID=UTC:20241107T110000
DTEND;TZID=UTC:20241107T120000
DTSTAMP:20260420T001208
CREATED:20240827T152747Z
LAST-MODIFIED:20240827T152747Z
UID:10089890-1730977200-1730980800@investinangus.com
SUMMARY:Tourism Experiences: Discover the Travel Trade
DESCRIPTION:Join VisitScotland’s last webinar of the series and discover the world of travel trade. \nLearn about the landscape of travel distribution\, market insights and trends. Explore the opportunities of working with the travel trade and how diversifying routes to market can help you grow business year-round. \nThis free\, hour-long webinar takes place on 7 November from 11am – 12pm. \nWhat is today’s visitor expecting? What is tomorrow’s visitor looking for? Find out more about travel and booking preferences of UK and international visitor markets. \nDiscover how to work with travel trade to bring to market new bookable products and experiences and explore how you can engage in regional and sectoral collaboration to accelerate business growth. \nAlso covered in this session – a product sheet for travel trade\, with industry experts to help you navigate this. \nThis webinar is not to be missed\, packed full of support\, insights and practical tips that you can implement within your business.
URL:https://investinangus.com/event/tourism-experiences-discover-the-travel-trade/
CATEGORIES:Business Planning,Tourism
END:VEVENT
END:VCALENDAR