BEGIN:VCALENDAR
VERSION:2.0
PRODID:-//Invest in Angus - ECPv6.15.17.1//NONSGML v1.0//EN
CALSCALE:GREGORIAN
METHOD:PUBLISH
X-WR-CALNAME:Invest in Angus
X-ORIGINAL-URL:https://investinangus.com
X-WR-CALDESC:Events for Invest in Angus
REFRESH-INTERVAL;VALUE=DURATION:PT1H
X-Robots-Tag:noindex
X-PUBLISHED-TTL:PT1H
BEGIN:VTIMEZONE
TZID:UTC
BEGIN:STANDARD
TZOFFSETFROM:+0000
TZOFFSETTO:+0000
TZNAME:UTC
DTSTART:20230101T000000
END:STANDARD
END:VTIMEZONE
BEGIN:VEVENT
DTSTART;TZID=UTC:20241114T090000
DTEND;TZID=UTC:20241114T173000
DTSTAMP:20260420T155915
CREATED:20241111T101312Z
LAST-MODIFIED:20241111T101312Z
UID:10090273-1731574800-1731605400@investinangus.com
SUMMARY:ASVA Annual Conference 2024
DESCRIPTION:This year’s Association for Scottish Visitor Attractions conference will bring together leading voices and experts from within the visitor attractions and wider tourism sector to share best practices\, explore innovative approaches in technology\, sustainability\, and community engagement. \nThe programme will explore everything from enhancing the visitor experience to the integration of tech and partnership strategies. It will delve into the unique challenges faced by small and big attractions alike\, discuss sustainability efforts\, and focus on critical themes like people\, accessibility and inclusion. \nThe trade exhibition will be a key part of conference activities\, and an excellent opportunity for trade members to showcase their organisation to the attraction industry audience. There will be a limited number of trade stands available\, so it is advised to book as early as possible to ensure you secure your spot and avoid missing out. \nAfter the conference\, all delegates are invited to a drinks reception at Perth Museum from 6-8pm. Not only will you enjoy a selection of drinks provided by local suppliers\, but you’ll also have the opportunity to network and explore the museum\, including a guided tour of the iconic Stone of Destiny.
URL:https://investinangus.com/event/asva-annual-conference-2024/
LOCATION:Perth Concert Hall\, Mill Street\, Perth\, PH1 5HZ
CATEGORIES:Networking,Tourism
END:VEVENT
END:VCALENDAR