BEGIN:VCALENDAR
VERSION:2.0
PRODID:-//Invest in Angus - ECPv6.15.17.1//NONSGML v1.0//EN
CALSCALE:GREGORIAN
METHOD:PUBLISH
X-ORIGINAL-URL:https://investinangus.com
X-WR-CALDESC:Events for Invest in Angus
REFRESH-INTERVAL;VALUE=DURATION:PT1H
X-Robots-Tag:noindex
X-PUBLISHED-TTL:PT1H
BEGIN:VTIMEZONE
TZID:UTC
BEGIN:STANDARD
TZOFFSETFROM:+0000
TZOFFSETTO:+0000
TZNAME:UTC
DTSTART:20230101T000000
END:STANDARD
END:VTIMEZONE
BEGIN:VEVENT
DTSTART;TZID=UTC:20241118T090000
DTEND;TZID=UTC:20241119T130000
DTSTAMP:20260420T141449
CREATED:20240612T101300Z
LAST-MODIFIED:20240612T101300Z
UID:10089409-1731920400-1732021200@investinangus.com
SUMMARY:Scottish Agritourism Conference 2024
DESCRIPTION:This Conference will bring together everyone interested in the development of agritourism in Scotland. \nIt will be a great chance to get together\, network and build relationships. \nThe conference is set to welcome: \n\nexisting agritourism business owners\nfarmers and crofters considering agritourism or just keen to find out more\ntourism\, hospitality and food and drink businesses keen to benefit from the growth of agritourism in Scotland\nprofessionals and suppliers to the sector\nindustry representatives from across agriculture\, tourism destinations\, the public sector and academia\n\nBoth members of Scottish Agritourism and non-members are welcome. Anyone booking with a non-members ticket who decides to join Scottish Agritourism before or during the Conference will have the difference in their ticket money refunded. \nHighlights will include \n\nBuilding Great Teams – Beata Winiarska\, Forest Farm Dairy\, Anna & Richard\, Lindores & further speaker tbc\nInnovation – Jillian McEwan\, Lunan Bay Farm\, Tom Lewis\, Monachyle Mhor and Katrina Reynolds\, Allanton Inn\nInternational session – Marijke Dunselman\, Agritourism New Zealand & Pandurang Taware\, Agritourism India\nInsight Session\, Vicki Miller\, Visit Scotland and Amanda Brown\, Scotland Food & Drink\nFocus on Scotland’s Agritourism Strategy and upcoming World Agritourism Conference\nAnnual Sector Dinner\nScottish Agritourism update and AGM
URL:https://investinangus.com/event/scottish-agritourism-conference-2024/
LOCATION:Perth Concert Hall\, Mill Street\, Perth\, PH1 5HZ
CATEGORIES:Food & Drink,Networking,Tourism
END:VEVENT
END:VCALENDAR