BEGIN:VCALENDAR
VERSION:2.0
PRODID:-//Invest in Angus - ECPv6.15.17.1//NONSGML v1.0//EN
CALSCALE:GREGORIAN
METHOD:PUBLISH
X-ORIGINAL-URL:https://investinangus.com
X-WR-CALDESC:Events for Invest in Angus
REFRESH-INTERVAL;VALUE=DURATION:PT1H
X-Robots-Tag:noindex
X-PUBLISHED-TTL:PT1H
BEGIN:VTIMEZONE
TZID:UTC
BEGIN:STANDARD
TZOFFSETFROM:+0000
TZOFFSETTO:+0000
TZNAME:UTC
DTSTART:20230101T000000
END:STANDARD
END:VTIMEZONE
BEGIN:VEVENT
DTSTART;TZID=UTC:20241120T100000
DTEND;TZID=UTC:20241120T163000
DTSTAMP:20260420T141505
CREATED:20241111T101727Z
LAST-MODIFIED:20241111T101727Z
UID:10090279-1732096800-1732120200@investinangus.com
SUMMARY:Expanding our horizons: collaborative pathways for nature tourism in Scotland
DESCRIPTION:After a five-year pause\, the Wild Scotland Autumn Conference is making a grand comeback. This is an opportunity to connect\, learn\, and be inspired by the best minds in the industry. \nThis conference is more than just a gathering – it’s a chance to reignite your passion\, gain invaluable insights and forge lasting connections with like-minded professionals. \nJoin this day filled with exciting discussions\, networking opportunities and insights into Scotland’s diverse wildlife\, culture and its guests. This in-person event will be held in the picturesque town of Pitlochry\, providing the perfect backdrop for this gathering. Whether you’re a nature enthusiast\, a conservationist\, or simply curious about Scotland’s wild beauty\, this conference is the place to be. \nConfirmed guest speakers are: \n\nDavid Symes from the Adventure Travel Trade Association who will be hosting an interactive session on “Developing adventure tourism for the international market”. The session will be audience-led and topics will focus on who your customers are\, working with the international travel trade and policies and procedure.\nPatrick O’Shaughnessy from VisitScotland will share the latest ways to ensure you are visible online\, including modern booking systems\, working with online travel agents and Google Things to Do.\nRebecca Gibson\, Scottish-based outdoor writer and photographer and author of the recent Bradt Guide on Slow Travel in North East Scotland.\n\nMark your calendars and join this conference in celebrating your businesses and Scotland’s rich wildlife and cultural offering.
URL:https://investinangus.com/event/expanding-our-horizons-collaborative-pathways-for-nature-tourism-in-scotland/
LOCATION:Fishers Hotel\, 75-79 Atholl Road\, Pitlochry\, PH16 5BN
CATEGORIES:Networking,Tourism
END:VEVENT
END:VCALENDAR