BEGIN:VCALENDAR
VERSION:2.0
PRODID:-//Invest in Angus - ECPv6.15.17.1//NONSGML v1.0//EN
CALSCALE:GREGORIAN
METHOD:PUBLISH
X-WR-CALNAME:Invest in Angus
X-ORIGINAL-URL:https://investinangus.com
X-WR-CALDESC:Events for Invest in Angus
REFRESH-INTERVAL;VALUE=DURATION:PT1H
X-Robots-Tag:noindex
X-PUBLISHED-TTL:PT1H
BEGIN:VTIMEZONE
TZID:UTC
BEGIN:STANDARD
TZOFFSETFROM:+0000
TZOFFSETTO:+0000
TZNAME:UTC
DTSTART:20230101T000000
END:STANDARD
END:VTIMEZONE
BEGIN:VEVENT
DTSTART;TZID=UTC:20241121T100000
DTEND;TZID=UTC:20241121T160000
DTSTAMP:20260420T155821
CREATED:20241111T102015Z
LAST-MODIFIED:20241111T102015Z
UID:10090282-1732183200-1732204800@investinangus.com
SUMMARY:Scotland's cruise conference 2024 - what works for tourism
DESCRIPTION:2024 has been another year of growth for cruise ship calls around Scotland’s ports\, with the season extending well into November. Looking forward\, 2025 promises new cruise line calls at Scottish ports\, while at an industry level there is growth in both the size of vessels\, and in the capacity of the luxury and expedition market. Cruise lines are looking for excursions which are “ungoogleable”! \nIn Scotland\, conversations on cruise in recent times have raised the question of sustainable tourism and extension of the tourism levy. What does this mean for the cruise industry and Scotland’s tourism offer? \nScotland’s cruise conference 2024 – what works for tourism will consider the issues and opportunities raised for the Scottish tourism industry and local tourism businesses. \nThe programme will include input from cruise lines\, international cruise networks\, and international industry experts. Following last year’s event\, the conference will also explore the data which is available\, and how it might help you to plan. It is also hoped to find space for some “speed dating”. \nAs always\, the sessions will be interactive. At these events\, delegates are always participants.
URL:https://investinangus.com/event/scotlands-cruise-conference-2024-what-works-for-tourism/
LOCATION:Glen Pavilion\, Pittencrieff Park\, Dunfermline\, KY12 8QH
CATEGORIES:Networking,Tourism
END:VEVENT
END:VCALENDAR