BEGIN:VCALENDAR
VERSION:2.0
PRODID:-//Invest in Angus - ECPv6.15.17.1//NONSGML v1.0//EN
CALSCALE:GREGORIAN
METHOD:PUBLISH
X-ORIGINAL-URL:https://investinangus.com
X-WR-CALDESC:Events for Invest in Angus
REFRESH-INTERVAL;VALUE=DURATION:PT1H
X-Robots-Tag:noindex
X-PUBLISHED-TTL:PT1H
BEGIN:VTIMEZONE
TZID:UTC
BEGIN:STANDARD
TZOFFSETFROM:+0000
TZOFFSETTO:+0000
TZNAME:UTC
DTSTART:20230101T000000
END:STANDARD
END:VTIMEZONE
BEGIN:VEVENT
DTSTART;TZID=UTC:20241125T100000
DTEND;TZID=UTC:20241125T153000
DTSTAMP:20260420T141447
CREATED:20241111T154417Z
LAST-MODIFIED:20241111T154417Z
UID:10090292-1732528800-1732548600@investinangus.com
SUMMARY:Development and Design for Agritourism
DESCRIPTION:Join Scotland’s Agritourism Monitor Farms Programme for another informative event\, this time focused on development and design of space for agritourism. \nWhether you’re an established agritourism business or just starting out\, this event hosted by Duffus Estate will help you understand the process when repurposing or designing new space. \nOur Agritourism Monitor Farmers\, the Scott Family from Fearn Farm are developing a new hotel venture working collaboratively with Rosemary and Ben from The Building Workshop. Rosemary will lead the morning session which will take us through the collaborative design process with a focus on the Fearn developments. We will also hear how the development is progressing from the Scott’s. \nIn the afternoon\, we will have an opportunity to hear from Core Community Group Members\, Caroline and Ed Dunbar about the progress and developments at Duffus Estate including the new campsite opening in 2025\, the existing accommodation\, eco lodge and coffee hut. There will be a walk around of Duffus Estate also. \nThere will be a chance to share thoughts & ideas and network over lunchtime. \nTea and Coffee will be provided. There will be a cup of soup at lunchtime but please do bring a packed lunch. \nEveryone is very welcome to attend.
URL:https://investinangus.com/event/development-and-design-for-agritourism/
LOCATION:Duffus Village Hall\, Duffus\, Elgin\, IV30 5QD
CATEGORIES:Networking,Tourism
END:VEVENT
END:VCALENDAR