BEGIN:VCALENDAR
VERSION:2.0
PRODID:-//Invest in Angus - ECPv6.15.17.1//NONSGML v1.0//EN
CALSCALE:GREGORIAN
METHOD:PUBLISH
X-ORIGINAL-URL:https://investinangus.com
X-WR-CALDESC:Events for Invest in Angus
REFRESH-INTERVAL;VALUE=DURATION:PT1H
X-Robots-Tag:noindex
X-PUBLISHED-TTL:PT1H
BEGIN:VTIMEZONE
TZID:UTC
BEGIN:STANDARD
TZOFFSETFROM:+0000
TZOFFSETTO:+0000
TZNAME:UTC
DTSTART:20240101T000000
END:STANDARD
END:VTIMEZONE
BEGIN:VEVENT
DTSTART;TZID=UTC:20250226T140000
DTEND;TZID=UTC:20250226T173000
DTSTAMP:20260420T093713
CREATED:20250217T112724Z
LAST-MODIFIED:20250217T112724Z
UID:10090750-1740578400-1740591000@investinangus.com
SUMMARY:ASSC Regional Gathering\, Dundee "Thriving Together: Self-Catering Success"
DESCRIPTION:Join us for the first ASSC Regional Gathering of 2025: Thriving Together: Self-Catering Success\, bringing together self-catering operators\, ASSC partners\, and industry experts from across the East of Scotland and beyond. This event offers a unique opportunity for networking\, collaboration\, and engaging discussions tailored to the self-catering community and its vital role in Scotland’s tourism industry. \nThe day will focus on the challenges and opportunities facing the self-catering industry\, with the goal of strengthening collaboration and exploring practical solutions to support local businesses and communities. \nWhat to Expect: \n\nState of the Nation Address: Fiona Campbell\, Chief Executive of ASSC\, will provide an update on the current state of the self-catering sector\, setting the stage for the day.\nPanel Discussion: Facing the Future: Navigating Challenges in Scotland’s Self-Catering Industry\nFeaturing industry experts\, the panel will explore pressing challenges\, including Short-Term Let legislation\, the Visitor Levy\, and the impending abolition of the Furnished Holiday Lets tax regime. This is your opportunity to ask questions and gain insights on these critical issues.\nGuest Speaker: Caroline Warburton\, Regional Leadership Director at VisitScotland\, will highlight opportunities for regional collaboration\, from upcoming events to shared initiatives that can benefit self-catering businesses and local communities.\nThriving Together: Communication\, Collaboration & Tips for 2025 Success Discover how self-caterers can thrive in 2025 by embracing creativity\, collaboration\, and technology. From wearing multiple hats as hospitality pros to making the most of regional partnerships\, ASSC membership and practical tips\, this session explores the power of community and innovation. Walk away with a clear to-do list and fresh ideas to help your business stand out and succeed in the year ahead!\nExhibitors and Networking: Connect with ASSC partners and exhibitors offering tailored services for self-catering operators\, from insurance to marketing solutions. Enjoy ample time for peer-to-peer networking with fellow operators and tourism businesses.
URL:https://investinangus.com/event/assc-regional-gathering-dundee-thriving-together-self-catering-success/
LOCATION:Caird Hall\, City Square\, Dundee\, DD1 3BB
CATEGORIES:Tourism
END:VEVENT
END:VCALENDAR