BEGIN:VCALENDAR
VERSION:2.0
PRODID:-//Invest in Angus - ECPv6.15.17.1//NONSGML v1.0//EN
CALSCALE:GREGORIAN
METHOD:PUBLISH
X-WR-CALNAME:Invest in Angus
X-ORIGINAL-URL:https://investinangus.com
X-WR-CALDESC:Events for Invest in Angus
REFRESH-INTERVAL;VALUE=DURATION:PT1H
X-Robots-Tag:noindex
X-PUBLISHED-TTL:PT1H
BEGIN:VTIMEZONE
TZID:UTC
BEGIN:STANDARD
TZOFFSETFROM:+0000
TZOFFSETTO:+0000
TZNAME:UTC
DTSTART:20240101T000000
END:STANDARD
END:VTIMEZONE
BEGIN:VEVENT
DTSTART;TZID=UTC:20250227T113000
DTEND;TZID=UTC:20250228T153000
DTSTAMP:20260420T093039
CREATED:20250203T101721Z
LAST-MODIFIED:20250203T101721Z
UID:10090708-1740655800-1740756600@investinangus.com
SUMMARY:SCOTO National Gathering & Learning Exchange
DESCRIPTION:Join us in Montrose\, Angus for our third annual gathering with a packed two days of inspirational learning exchanges\, enlightening case studies\, a feast of Angus supper and a strong focus on doing things differently. We’ll be sharing what’s emerging from over 40 Press Pause community led tourism workshops across Scotland and what clearly needs to change – Mindsets! \nNow more than ever we need to change mindsets in Scottish tourism but what does that look like for the industry\, for visitors\, for our communities and ourselves? \nOn the first day\, we’ll explore inspiring community tourism projects across Angus and nearby Aberdeenshire\, followed by a special Angus produce supper at The Park Hotel. The next day\, we’ll continue at the Park Hotel for the main Gathering\, featuring insightful discussions and networking opportunities.
URL:https://investinangus.com/event/scoto-national-gathering-learning-exchange/
LOCATION:Park Hotel Montrose\, John Street\, Montrose\, DD10 8RJ
CATEGORIES:Networking,Tourism
END:VEVENT
END:VCALENDAR