BEGIN:VCALENDAR
VERSION:2.0
PRODID:-//Invest in Angus - ECPv6.15.17.1//NONSGML v1.0//EN
CALSCALE:GREGORIAN
METHOD:PUBLISH
X-ORIGINAL-URL:https://investinangus.com
X-WR-CALDESC:Events for Invest in Angus
REFRESH-INTERVAL;VALUE=DURATION:PT1H
X-Robots-Tag:noindex
X-PUBLISHED-TTL:PT1H
BEGIN:VTIMEZONE
TZID:UTC
BEGIN:STANDARD
TZOFFSETFROM:+0000
TZOFFSETTO:+0000
TZNAME:UTC
DTSTART:20240101T000000
END:STANDARD
END:VTIMEZONE
BEGIN:VEVENT
DTSTART;TZID=UTC:20250313T100000
DTEND;TZID=UTC:20250313T160000
DTSTAMP:20260420T111037
CREATED:20250217T110809Z
LAST-MODIFIED:20250217T110809Z
UID:10090735-1741860000-1741881600@investinangus.com
SUMMARY:Effective Financial Management For Agritourism
DESCRIPTION:Join Scotland’s Agritourism Monitor Farms Programme at Gargunnock Community Centre in Stirlingshire for an informative session designed to help you take effective control of your agritourism business finances. Whether you’re just starting out in agritourism or looking to refine your financial management skills\, this meeting will cover many essential topics. \nWe’re delighted to be joined by Colin McNally\, Director of CJM Accountancy & Financial Management and Paris & McNally\, who will cover: \n\nWhat is a P&L? Gain a clear understanding of Profit and Loss statements and their importance.\nIncome vs. Costs = Profit: Learn the basics of calculating profit and managing your margins.\nValuing Your Time: Discover how to attribute your own and your management team’s time effectively.\nManaging Multiple Enterprises: Explore strategies for handling finances across different enterprises.\nMonthly Reporting: Learn how to structure monthly management reports\, determine who in your team can help you with this task\, and estimate the costs involved.\nTax Accounts Simplified: Break down the essentials of your tax obligations and accounts.\nSoftware Solutions: Explore how a financial software solution could help you streamline reporting and insights.\nBudgeting & Monitoring: Learn how to create budgets and track progress to improve the currency of your financial information.\nROI Planning: Understand your capital investments and learn how to plan for returns.\n\nTea and Coffee will be provided. There will be a cup of soup at lunchtime but please do bring your own packed lunch. \nThere will be a chance to share thoughts & ideas and network over lunchtime. \nEveryone is very welcome to attend.
URL:https://investinangus.com/event/effective-financial-management-for-agritourism/
LOCATION:Gargunnock Community Centre\, Leckie Road\, Gargunnock\, FK8 3BJ
CATEGORIES:Finance,Tourism
END:VEVENT
END:VCALENDAR