BEGIN:VCALENDAR
VERSION:2.0
PRODID:-//Invest in Angus - ECPv6.15.17.1//NONSGML v1.0//EN
CALSCALE:GREGORIAN
METHOD:PUBLISH
X-WR-CALNAME:Invest in Angus
X-ORIGINAL-URL:https://investinangus.com
X-WR-CALDESC:Events for Invest in Angus
REFRESH-INTERVAL;VALUE=DURATION:PT1H
X-Robots-Tag:noindex
X-PUBLISHED-TTL:PT1H
BEGIN:VTIMEZONE
TZID:UTC
BEGIN:STANDARD
TZOFFSETFROM:+0000
TZOFFSETTO:+0000
TZNAME:UTC
DTSTART:20240101T000000
END:STANDARD
END:VTIMEZONE
BEGIN:VEVENT
DTSTART;TZID=UTC:20250509T120000
DTEND;TZID=UTC:20250509T143000
DTSTAMP:20260420T003114
CREATED:20250421T140335Z
LAST-MODIFIED:20250421T140335Z
UID:10091030-1746792000-1746801000@investinangus.com
SUMMARY:Scottish Agritourism Month Roadshow: Dunlop Dairy
DESCRIPTION:This meeting is part of a series of events hosted during Scottish Agritourism month and in the lead-up to Scottish Agritourism turning five years old on June 1st 2025. Everyone with an interest in agritourism is welcome to attend. \nWe’ll be shining a light on the development of agritourism both in the local area and nationally\, sharing Scotland-wide success stories and sector challenges\, and opening up discussion with others who play a part in supporting rural and agritourism. You will also hear from Dunlop Dairy about how they’ve developed their business – a traditional Ayrshire cheesemaker\, with a range of farmhouse cheeses sold in their Cheese Shop and Tearoom. \nYou can expect a sector update from Scottish Agritourism on the work we are doing\, along with agencies from the national strategy board\, to grow and develop agritourism in Scotland in line with national targets. We’ll be celebrating five years of Scottish Agritourism – lunch will be provided and yes\, there will be cake!
URL:https://investinangus.com/event/scottish-agritourism-month-roadshow-dunlop-dairy/
LOCATION:Dunlop Dairy\, Dunlop Road\, Stewarton\, KA3 5LP
CATEGORIES:Tourism
END:VEVENT
END:VCALENDAR