BEGIN:VCALENDAR
VERSION:2.0
PRODID:-//Invest in Angus - ECPv6.15.17.1//NONSGML v1.0//EN
CALSCALE:GREGORIAN
METHOD:PUBLISH
X-ORIGINAL-URL:https://investinangus.com
X-WR-CALDESC:Events for Invest in Angus
REFRESH-INTERVAL;VALUE=DURATION:PT1H
X-Robots-Tag:noindex
X-PUBLISHED-TTL:PT1H
BEGIN:VTIMEZONE
TZID:UTC
BEGIN:STANDARD
TZOFFSETFROM:+0000
TZOFFSETTO:+0000
TZNAME:UTC
DTSTART:20240101T000000
END:STANDARD
END:VTIMEZONE
BEGIN:VEVENT
DTSTART;TZID=UTC:20250617T140000
DTEND;TZID=UTC:20250617T160000
DTSTAMP:20260419T223826
CREATED:20250527T161248Z
LAST-MODIFIED:20250527T161248Z
UID:10091259-1750168800-1750176000@investinangus.com
SUMMARY:Scotland’s Towns Summer Session
DESCRIPTION:Scotland’s Towns Partnership is delighted to invite key partners and stakeholders to a focused summer session\, spotlighting the pivotal role of responsible tourism in driving forward Scotland’s local economies and place-based investment. \nWith a deepening emphasis on sustainable development\, this event will explore how tourism strategies can not only align with but actively enhance the strategic direction of towns stakeholders – from local government and community groups to businesses and cultural organisations. \nKeynote Speaker:\nVicki Miller\, Chief Executive\, VisitScotland \nVicki will present VisitScotland’s strategic vision and direction\, with a sharp focus on partnership opportunities that advance local economic growth and resilience. She will dive into how the organisation is working collaboratively with Scotland’s Towns Partnership – particularly through initiatives like the Love Local campaign – to tap into the power of the Scottish diaspora\, boost local spend\, and support vibrant\, distinctive places. \nFireside Chat:\nFollowing Vicki’s presentation\, a dynamic fireside chat will be hosted by:\nKimberley Guthrie\, Chief Officer\, Scotland’s Towns Partnership \nJoining Kimberley and Vicki for this engaging discussion are: \nGlasgow Life \nScotland’s Improvement Districts \nTogether\, they will delve deeper into the future of responsible tourism\, the importance of collaboration across cities and towns\, and how place-based strategies are creating new opportunities for regeneration\, cultural vibrancy\, and economic growth. \nWhy Attend:\nThis intimate\, invitation-only session provides an opportunity to: \n\nHear strategic insights directly from VisitScotland leadership\nEngage in a thought-provoking fireside chat with urban and cultural leaders\nUnderstand how national campaigns like Love Local are evolving\nDiscuss place-making and the value of partnership working\nConnect with like-minded leaders committed to strengthening town economies
URL:https://investinangus.com/event/scotlands-towns-summer-session/
LOCATION:Perth Concert Hall\, Mill Street\, Perth\, PH1 5HZ
CATEGORIES:Tourism
END:VEVENT
END:VCALENDAR