BEGIN:VCALENDAR
VERSION:2.0
PRODID:-//Invest in Angus - ECPv6.15.17.1//NONSGML v1.0//EN
CALSCALE:GREGORIAN
METHOD:PUBLISH
X-ORIGINAL-URL:https://investinangus.com
X-WR-CALDESC:Events for Invest in Angus
REFRESH-INTERVAL;VALUE=DURATION:PT1H
X-Robots-Tag:noindex
X-PUBLISHED-TTL:PT1H
BEGIN:VTIMEZONE
TZID:UTC
BEGIN:STANDARD
TZOFFSETFROM:+0000
TZOFFSETTO:+0000
TZNAME:UTC
DTSTART:20240101T000000
END:STANDARD
END:VTIMEZONE
BEGIN:VEVENT
DTSTART;TZID=UTC:20250619T140000
DTEND;TZID=UTC:20250619T143000
DTSTAMP:20260419T223820
CREATED:20250609T115156Z
LAST-MODIFIED:20250609T115156Z
UID:10091350-1750341600-1750343400@investinangus.com
SUMMARY:VisitScotland bitesize webinars: importance of international markets
DESCRIPTION:International visitors are vital for your business as you broaden your reach and reduce your risk. \nDiscover the volume and value that these international markets can bring\, with practical tips on how to understand booking behaviours and reach these visitors.
URL:https://investinangus.com/event/visitscotland-bitesize-webinars-importance-of-international-markets/
CATEGORIES:Tourism
END:VEVENT
END:VCALENDAR