BEGIN:VCALENDAR
VERSION:2.0
PRODID:-//Invest in Angus - ECPv6.15.17.1//NONSGML v1.0//EN
CALSCALE:GREGORIAN
METHOD:PUBLISH
X-ORIGINAL-URL:https://investinangus.com
X-WR-CALDESC:Events for Invest in Angus
REFRESH-INTERVAL;VALUE=DURATION:PT1H
X-Robots-Tag:noindex
X-PUBLISHED-TTL:PT1H
BEGIN:VTIMEZONE
TZID:UTC
BEGIN:STANDARD
TZOFFSETFROM:+0000
TZOFFSETTO:+0000
TZNAME:UTC
DTSTART:20240101T000000
END:STANDARD
END:VTIMEZONE
BEGIN:VEVENT
DTSTART;TZID=UTC:20250626T023000
DTEND;TZID=UTC:20250626T180000
DTSTAMP:20260419T224755
CREATED:20250623T093005Z
LAST-MODIFIED:20250623T093005Z
UID:10091451-1750905000-1750960800@investinangus.com
SUMMARY:ANGUSalive Exclusive Showcase at Monikie Country Park
DESCRIPTION:ANGUSalive are holding a showcase event at Monikie Country Park on 26 June\, from 2.30pm. Monikie Country Park boasts beautiful woodland and parkland with a variety of things to see and do\, including land and water activities\, self-led trails\, and an adventure play park. This event is an ideal opportunity to find out about the extensive range of experiences on offer for visitors. \nWhat you can expect: \n\n2.30pm: Welcome & Refreshments. An introduction to Countryside Adventure – learn about the extensive range of experiences on offer at Monikie Country Park.\n3.00pm: Find out more about our Land-based Activities\, including bushcraft & survival skills\, cycling\, nature walks with one of our Countryside Rangers\, and craft workshops.\n4.00pm: Discover what water-based activities visitors can enjoy\, including paddleboarding\, kayaking\, canoeing\, windsurfing\, and our newest addition – Angus Aqua Splash.\n5.00pm: Try it for yourself! Angus Aqua Splash Session (optional); alternatively you could watch the session from shore and enjoy some networking\n6.00pm: End\n\nPlaces are limited\, so please RSVP to: Scott Grant – scott.grant@angusalive.scot
URL:https://investinangus.com/event/angusalive-exclusive-showcase-at-monikie-country-park/
LOCATION:Monikie Country Park\, Monikie\, DD5 3QA
CATEGORIES:Tourism
END:VEVENT
END:VCALENDAR