BEGIN:VCALENDAR
VERSION:2.0
PRODID:-//Invest in Angus - ECPv6.15.17.1//NONSGML v1.0//EN
CALSCALE:GREGORIAN
METHOD:PUBLISH
X-WR-CALNAME:Invest in Angus
X-ORIGINAL-URL:https://investinangus.com
X-WR-CALDESC:Events for Invest in Angus
REFRESH-INTERVAL;VALUE=DURATION:PT1H
X-Robots-Tag:noindex
X-PUBLISHED-TTL:PT1H
BEGIN:VTIMEZONE
TZID:UTC
BEGIN:STANDARD
TZOFFSETFROM:+0000
TZOFFSETTO:+0000
TZNAME:UTC
DTSTART:20240101T000000
END:STANDARD
END:VTIMEZONE
BEGIN:VEVENT
DTSTART;TZID=UTC:20250722T120000
DTEND;TZID=UTC:20250722T130000
DTSTAMP:20260419T185703
CREATED:20250709T144214Z
LAST-MODIFIED:20250709T144214Z
UID:10091537-1753185600-1753189200@investinangus.com
SUMMARY:Engaging with Travel Trade: Developing your Product Sheet
DESCRIPTION:Do you want to connect with Travel Trade opportunities and need some support ensuring the information you provide is as effective as possible? \nIn this webinar of the Agritourism Monitor Farm programme\, you will be guided by the experts to create a practical sales tool to help you connect with the travel trade. Cassie McEwan from Visit Scotland will guide you step-by-step through building a simple\, two-page product sheet that clearly showcases your agritourism experience. \nYou will learn what travel trade buyers are really looking for\, how to structure your content\, and what to include to make your business stand out. By the end\, you’ll have a flexible template you can adapt and use—perfect for getting trade-show ready and making a great first impression.
URL:https://investinangus.com/event/engaging-with-travel-trade-developing-your-product-sheet/
CATEGORIES:Tourism
END:VEVENT
END:VCALENDAR