BEGIN:VCALENDAR
VERSION:2.0
PRODID:-//Invest in Angus - ECPv6.15.17.1//NONSGML v1.0//EN
CALSCALE:GREGORIAN
METHOD:PUBLISH
X-WR-CALNAME:Invest in Angus
X-ORIGINAL-URL:https://investinangus.com
X-WR-CALDESC:Events for Invest in Angus
REFRESH-INTERVAL;VALUE=DURATION:PT1H
X-Robots-Tag:noindex
X-PUBLISHED-TTL:PT1H
BEGIN:VTIMEZONE
TZID:UTC
BEGIN:STANDARD
TZOFFSETFROM:+0000
TZOFFSETTO:+0000
TZNAME:UTC
DTSTART:20240101T000000
END:STANDARD
END:VTIMEZONE
BEGIN:VEVENT
DTSTART;TZID=UTC:20250916T103000
DTEND;TZID=UTC:20250916T120000
DTSTAMP:20260419T160138
CREATED:20250908T123611Z
LAST-MODIFIED:20250908T123611Z
UID:10091918-1758018600-1758024000@investinangus.com
SUMMARY:Driving Success in Scotland's Hospitality & Accommodation Sector
DESCRIPTION:The hotel market in Scotland has seen mixed performance this year\, driven largely by an increase in supply in the capital. While Edinburgh remains a strong market\, the growth in hotel stock — alongside a noticeable slowdown in the domestic audience\, greater price sensitivity\, and a reduction in short-term let accommodation — has created tougher year-on-year comparisons. Other regions across Scotland\, however\, have continued to perform well\, supported by steady demand and major events such as Oasis and AC/DC shows bringing strong peaks in occupancy. \nInternational investors continue to be attracted to the country and are driving an exuberant transactions market\, which is set to grow further this year and is seen as a focal point for significant capital deployment. \nWhile the outlook for the strong pipeline of hotels remains positive\, particularly in the luxury segment\, the industry faces a series of headwinds\, including the confirmed tourism levies in Edinburgh (5% for all bookings made for stays from July 2026 onwards\, for reservations made from 1st October 2025) and Aberdeen (7% from April 2027)\, as well as an ongoing skills shortage. These factors are placing pressure on profits and Scotland’s ability to remain competitive as a leading tourist destination. \nThe Scottish Tourism Alliance (STA) is delighted to once again be partnering with HotelPartner\, a trusted market leader in revenue management and distribution services for the hospitality and tourism industry\, to explore the solutions available to Scottish hoteliers to ensure that the market can continue to thrive. \nWhether you operate a luxury hotel\, a budget accommodation\, a boutique property\, or a youth hostel\, this webinar will share accessible and actionable advice on tackling challenges such as the skills shortage\, optimising performance\, and making the most effective use of technology in your operations.
URL:https://investinangus.com/event/driving-success-in-scotlands-hospitality-accommodation-sector/
CATEGORIES:Tourism
END:VEVENT
END:VCALENDAR