BEGIN:VCALENDAR
VERSION:2.0
PRODID:-//Invest in Angus - ECPv6.15.17.1//NONSGML v1.0//EN
CALSCALE:GREGORIAN
METHOD:PUBLISH
X-ORIGINAL-URL:https://investinangus.com
X-WR-CALDESC:Events for Invest in Angus
REFRESH-INTERVAL;VALUE=DURATION:PT1H
X-Robots-Tag:noindex
X-PUBLISHED-TTL:PT1H
BEGIN:VTIMEZONE
TZID:UTC
BEGIN:STANDARD
TZOFFSETFROM:+0000
TZOFFSETTO:+0000
TZNAME:UTC
DTSTART:20240101T000000
END:STANDARD
END:VTIMEZONE
BEGIN:VEVENT
DTSTART;TZID=UTC:20250917T110000
DTEND;TZID=UTC:20250917T120000
DTSTAMP:20260419T173634
CREATED:20250806T153423Z
LAST-MODIFIED:20250806T153423Z
UID:10091673-1758106800-1758110400@investinangus.com
SUMMARY:Unlocking the Potential: The Power of Inclusive Marketing
DESCRIPTION:Open to all Scottish tourism business. \nJoin us for an insightful session designed to help you maximise your impact in the inclusive tourism market. \nWe’ll explore: \n\nCurrent market insights from Sarah Muir\, Product Manager (Abbey UK)\, a travel intermediary working directly with clients seeking inclusive holiday experiences. Learn what information these customers need to confidently choose your business.\nInclusive marketing in action with expert Carrie-Ann Lightley (Accessible Travel Writer & content creator )\, who will share practical tips on how to use photography\, content\, and messaging to authentically connect with this growing market.\nSupport tools and resources available through our Business Support Hub to help you implement what you’ve learned and enhance your visibility to inclusive travellers.\n\nThis is a valuable opportunity to strengthen your approach and better connect with the inclusive tourism market.
URL:https://investinangus.com/event/unlocking-the-potential-the-power-of-inclusive-marketing/
CATEGORIES:Accessibility,Tourism
END:VEVENT
END:VCALENDAR